BEGIN:VCALENDAR
VERSION:2.0
PRODID:-//Ease International Education Services Ltd
CALSCALE:GREGORIAN
METHOD:PUBLISH
X-WR-CALNAME:Ease International Education Services Ltd
X-ORIGINAL-URL:https://eiesl.org/event/featured-universities-see-all-the-universities-open-to-you-for-study/
X-WR-CALDESC:Featured Universities &#8211; see all the universities open to you for study
BEGIN:VEVENT
DTSTART:
DTEND:
SUMMARY:Featured Universities &#8211; see all the universities open to you for study
DESCRIPTION:A list of all our accredited university coming soon
LOCATION:
END:VEVENT
END:VCALENDAR
