BEGIN:VCALENDAR
VERSION:2.0
PRODID:-//Ease International Education Services Ltd
CALSCALE:GREGORIAN
METHOD:PUBLISH
X-WR-CALNAME:Ease International Education Services Ltd
X-ORIGINAL-URL:https://eiesl.org/event/sample-event/
X-WR-CALDESC:Start Your Education Career
BEGIN:VEVENT
DTSTART:20160619T093000
DTEND:20160619T120000
SUMMARY:Start Your Education Career
DESCRIPTION:
LOCATION:
END:VEVENT
END:VCALENDAR
