BEGIN:VCALENDAR
VERSION:2.0
PRODID:-//Ease International Education Services Ltd
CALSCALE:GREGORIAN
METHOD:PUBLISH
X-WR-CALNAME:Ease International Education Services Ltd
X-ORIGINAL-URL:https://eiesl.org/event/good-morning-america/
X-WR-CALDESC:EASE Magazine &#8211; students achieve from all over the world!
BEGIN:VEVENT
DTSTART:
DTEND:
SUMMARY:EASE Magazine &#8211; students achieve from all over the world!
DESCRIPTION:A window to what our students are achieving all over the world.
LOCATION:
END:VEVENT
END:VCALENDAR
