BEGIN:VCALENDAR
VERSION:2.0
PRODID:-//Ease International Education Services Ltd
CALSCALE:GREGORIAN
METHOD:PUBLISH
X-WR-CALNAME:Ease International Education Services Ltd
X-ORIGINAL-URL:https://eiesl.org/event/resources-find-what-you-are-looking-for-here/
X-WR-CALDESC:Resources &#8211; Find what you are looking for here
BEGIN:VEVENT
DTSTART:
DTEND:
SUMMARY:Resources &#8211; Find what you are looking for here
DESCRIPTION:Download coming soon.
LOCATION:
END:VEVENT
END:VCALENDAR
